BEGIN:VCALENDAR
VERSION:2.0
PRODID:-//LAPA Ltd. Training Center - ECPv6.11.2//NONSGML v1.0//EN
CALSCALE:GREGORIAN
METHOD:PUBLISH
X-ORIGINAL-URL:https://lapa.lv
X-WR-CALDESC:Events for LAPA Ltd. Training Center
REFRESH-INTERVAL;VALUE=DURATION:PT1H
X-Robots-Tag:noindex
X-PUBLISHED-TTL:PT1H
BEGIN:VTIMEZONE
TZID:Europe/Riga
BEGIN:DAYLIGHT
TZOFFSETFROM:+0200
TZOFFSETTO:+0300
TZNAME:EEST
DTSTART:20260329T010000
END:DAYLIGHT
BEGIN:STANDARD
TZOFFSETFROM:+0300
TZOFFSETTO:+0200
TZNAME:EET
DTSTART:20261025T010000
END:STANDARD
END:VTIMEZONE
BEGIN:VTIMEZONE
TZID:Europe/Moscow
BEGIN:STANDARD
TZOFFSETFROM:+0300
TZOFFSETTO:+0300
TZNAME:MSK
DTSTART:20260101T000000
END:STANDARD
END:VTIMEZONE
BEGIN:VEVENT
DTSTART;TZID=Europe/Riga:20260424T000000
DTEND;TZID=Europe/Riga:20260424T235959
DTSTAMP:20260425T211926
CREATED:20260104T151656Z
LAST-MODIFIED:20260104T152134Z
UID:10011717-1776988800-1777075199@lapa.lv
SUMMARY:Advanced Fire-Fighting – Refresher Course (1 day)
DESCRIPTION:Cource Reservation Form\n                             \n                        \n                        Course Start Date Will Be Confirmed by PhonePlease read Statement of Consent before personal data submission.\nThe Course Date Start at:*\n                            \n                            DD slash MM slash YYYY\n                        \n                        Check Your Position From List*MasterDeck OfficerCh.EngineerEngine OfficerElectricianGas EngineerMotormanOilerAble SeamanOrdinary SeamanCookStewardPumpmanCadetNo Position YetName*\n                            \n                            \n                                                    \n                                                    First\n                                                \n                            \n                            \n                                                    \n                                                    Last\n                                                \n                            \n                        Course*Competence in certificate of degreePhone*Email*
URL:https://lapa.lv/event/advanced-fire-fighting-refresh-1-day-2/2026-04-24/
LOCATION:Barons Kvartāls\, Cēsu iela 31 k.1\, Rīga\, Riga\, LV-1012\, Latvia
CATEGORIES:Safety and Security Courses
ATTACH;FMTTYPE=image/jpeg:https://lapa.lv/wp-content/uploads/2024/12/Advanced-Fire-Fighting-1.jpg
END:VEVENT
BEGIN:VEVENT
DTSTART;TZID=Europe/Moscow:20260423T000000
DTEND;TZID=Europe/Moscow:20260423T235959
DTSTAMP:20260425T211926
CREATED:20260104T145850Z
LAST-MODIFIED:20260420T132313Z
UID:10011141-1776902400-1776988799@lapa.lv
SUMMARY:Basic Safety Training Refresher Course (1 day)
DESCRIPTION:Cource Reservation Form\n                             \n                        \n                        Course Start Date Will Be Confirmed by PhonePlease read Statement of Consent before personal data submission.\nThe Course Date Start at:*\n                            \n                            DD slash MM slash YYYY\n                        \n                        Check Your Position From List*MasterDeck OfficerCh.EngineerEngine OfficerElectricianGas EngineerMotormanOilerAble SeamanOrdinary SeamanCookStewardPumpmanCadetNo Position YetName*\n                            \n                            \n                                                    \n                                                    First\n                                                \n                            \n                            \n                                                    \n                                                    Last\n                                                \n                            \n                        Course*Competence in certificate of degreePhone*Email*
URL:https://lapa.lv/event/basic-safety-training-refresher-course-1-day-2/2026-04-23/
LOCATION:Ziedonis\, Friča Bārdas iela 7\, Katlakalns\, Ķekavas pag.\, Ķekavas nov.\, LV-2111\, Riga\, Latvia
CATEGORIES:Safety and Security Courses
ATTACH;FMTTYPE=image/jpeg:https://lapa.lv/wp-content/uploads/2024/09/solas-1280x533-1.jpg
END:VEVENT
BEGIN:VEVENT
DTSTART;TZID=Europe/Riga:20260422T000000
DTEND;TZID=Europe/Riga:20260422T235959
DTSTAMP:20260425T211926
CREATED:20260104T150427Z
LAST-MODIFIED:20260104T152630Z
UID:10011646-1776816000-1776902399@lapa.lv
SUMMARY:Prof. in Survival Craft Refresher Course (0\,5 day)
DESCRIPTION:Cource Reservation Form\n                             \n                        \n                        Course Start Date Will Be Confirmed by PhonePlease read Statement of Consent before personal data submission.\nThe Course Date Start at:*\n                            \n                            DD slash MM slash YYYY\n                        \n                        Check Your Position From List*MasterDeck OfficerCh.EngineerEngine OfficerElectricianGas EngineerMotormanOilerAble SeamanOrdinary SeamanCookStewardPumpmanCadetNo Position YetName*\n                            \n                            \n                                                    \n                                                    First\n                                                \n                            \n                            \n                                                    \n                                                    Last\n                                                \n                            \n                        Course*Competence in certificate of degreePhone*Email*
URL:https://lapa.lv/event/survival-craft-refresh-2/2026-04-22/
LOCATION:Ziedonis\, Friča Bārdas iela 7\, Katlakalns\, Ķekavas pag.\, Ķekavas nov.\, LV-2111\, Riga\, Latvia
CATEGORIES:Safety and Security Courses
ATTACH;FMTTYPE=image/jpeg:https://lapa.lv/wp-content/uploads/2024/12/Proficiency-in-Survival-Craft.jpg
END:VEVENT
BEGIN:VEVENT
DTSTART;TZID=Europe/Riga:20260420T090000
DTEND;TZID=Europe/Riga:20260423T170000
DTSTAMP:20260425T211926
CREATED:20241220T153111Z
LAST-MODIFIED:20260420T132459Z
UID:10012513-1776675600-1776963600@lapa.lv
SUMMARY:Radar ARPA (Management level 4 days)
DESCRIPTION:Cource Reservation Form\n                             \n                        \n                        Course Start Date Will Be Confirmed by PhonePlease read Statement of Consent before personal data submission.\nThe Course Date Start at:*\n                            \n                            DD slash MM slash YYYY\n                        \n                        Check Your Position From List*MasterDeck OfficerCh.EngineerEngine OfficerElectricianGas EngineerMotormanOilerAble SeamanOrdinary SeamanCookStewardPumpmanCadetNo Position YetName*\n                            \n                            \n                                                    \n                                                    First\n                                                \n                            \n                            \n                                                    \n                                                    Last\n                                                \n                            \n                        Course*Competence in certificate of degreePhone*Email*
URL:https://lapa.lv/event/radar-arpa-management-level-4-days/2026-04-20/
LOCATION:Barons Kvartāls\, Cēsu iela 31 k.1\, Rīga\, Riga\, LV-1012\, Latvia
CATEGORIES:Masters & Deck Officers
ATTACH;FMTTYPE=image/jpeg:https://lapa.lv/wp-content/uploads/2024/12/radar-arpa-management-level.jpg
END:VEVENT
BEGIN:VEVENT
DTSTART;TZID=Europe/Riga:20260420T090000
DTEND;TZID=Europe/Riga:20260422T170000
DTSTAMP:20260425T211926
CREATED:20241211T161156Z
LAST-MODIFIED:20260420T195912Z
UID:10011868-1776675600-1776877200@lapa.lv
SUMMARY:Proficiency in Survival Craft (MC 1.23) (2\,5 days)
DESCRIPTION:Cource Reservation Form\n                             \n                        \n                        Course Start Date Will Be Confirmed by PhonePlease read Statement of Consent before personal data submission.\nThe Course Date Start at:*\n                            \n                            DD slash MM slash YYYY\n                        \n                        Check Your Position From List*MasterDeck OfficerCh.EngineerEngine OfficerElectricianGas EngineerMotormanOilerAble SeamanOrdinary SeamanCookStewardPumpmanCadetNo Position YetName*\n                            \n                            \n                                                    \n                                                    First\n                                                \n                            \n                            \n                                                    \n                                                    Last\n                                                \n                            \n                        Course*Competence in certificate of degreePhone*Email*
URL:https://lapa.lv/event/survival-craft-2-5-days/2026-04-20/
LOCATION:Barons Kvartāls\, Cēsu iela 31 k.1\, Rīga\, Riga\, LV-1012\, Latvia
CATEGORIES:Safety and Security Courses
ATTACH;FMTTYPE=image/jpeg:https://lapa.lv/wp-content/uploads/2024/12/Survival-Craft.jpg
END:VEVENT
BEGIN:VEVENT
DTSTART;TZID=Europe/Riga:20260413T090000
DTEND;TZID=Europe/Riga:20260424T170000
DTSTAMP:20260425T211926
CREATED:20241220T142325Z
LAST-MODIFIED:20260104T200333Z
UID:10012494-1776070800-1777050000@lapa.lv
SUMMARY:GMDSS (10 days)
DESCRIPTION:Cource Reservation Form\n                             \n                        \n                        Course Start Date Will Be Confirmed by PhonePlease read Statement of Consent before personal data submission.\nThe Course Date Start at:*\n                            \n                            DD slash MM slash YYYY\n                        \n                        Check Your Position From List*MasterDeck OfficerCh.EngineerEngine OfficerElectricianGas EngineerMotormanOilerAble SeamanOrdinary SeamanCookStewardPumpmanCadetNo Position YetName*\n                            \n                            \n                                                    \n                                                    First\n                                                \n                            \n                            \n                                                    \n                                                    Last\n                                                \n                            \n                        Course*Competence in certificate of degreePhone*Email*
URL:https://lapa.lv/event/gmdss-10-days/2026-04-13/
LOCATION:Barons Kvartāls\, Cēsu iela 31 k.1\, Rīga\, Riga\, LV-1012\, Latvia
CATEGORIES:Masters & Deck Officers
ATTACH;FMTTYPE=image/jpeg:https://lapa.lv/wp-content/uploads/2024/12/gmdss-2.jpg
END:VEVENT
BEGIN:VEVENT
DTSTART;TZID=Europe/Riga:20260413T090000
DTEND;TZID=Europe/Riga:20260421T170000
DTSTAMP:20260425T211926
CREATED:20241220T152717Z
LAST-MODIFIED:20260420T193924Z
UID:10012542-1776070800-1776790800@lapa.lv
SUMMARY:Radar ARPA (Operational level 7 days)
DESCRIPTION:Cource Reservation Form\n                             \n                        \n                        Course Start Date Will Be Confirmed by PhonePlease read Statement of Consent before personal data submission.\nThe Course Date Start at:*\n                            \n                            DD slash MM slash YYYY\n                        \n                        Check Your Position From List*MasterDeck OfficerCh.EngineerEngine OfficerElectricianGas EngineerMotormanOilerAble SeamanOrdinary SeamanCookStewardPumpmanCadetNo Position YetName*\n                            \n                            \n                                                    \n                                                    First\n                                                \n                            \n                            \n                                                    \n                                                    Last\n                                                \n                            \n                        Course*Competence in certificate of degreePhone*Email*
URL:https://lapa.lv/event/radar-arpa-operational-level-7-days/2026-04-13/
LOCATION:Barons Kvartāls\, Cēsu iela 31 k.1\, Rīga\, Riga\, LV-1012\, Latvia
CATEGORIES:Masters & Deck Officers
ATTACH;FMTTYPE=image/jpeg:https://lapa.lv/wp-content/uploads/2024/12/radar-arpa-operational-level.jpg
END:VEVENT
BEGIN:VEVENT
DTSTART;TZID=Europe/Riga:20260413T000000
DTEND;TZID=Europe/Riga:20260417T235959
DTSTAMP:20260425T211926
CREATED:20250105T180514Z
LAST-MODIFIED:20260104T153642Z
UID:10011805-1776038400-1776470399@lapa.lv
SUMMARY:Basic Safety Training SOLAS (5 days)
DESCRIPTION:Cource Reservation Form\n                             \n                        \n                        Course Start Date Will Be Confirmed by PhonePlease read Statement of Consent before personal data submission.\nThe Course Date Start at:*\n                            \n                            DD slash MM slash YYYY\n                        \n                        Check Your Position From List*MasterDeck OfficerCh.EngineerEngine OfficerElectricianGas EngineerMotormanOilerAble SeamanOrdinary SeamanCookStewardPumpmanCadetNo Position YetName*\n                            \n                            \n                                                    \n                                                    First\n                                                \n                            \n                            \n                                                    \n                                                    Last\n                                                \n                            \n                        Course*Competence in certificate of degreePhone*Email*
URL:https://lapa.lv/event/basic-safety-training-solas-5-days/2026-04-13/
LOCATION:Barons Kvartāls\, Cēsu iela 31 k.1\, Rīga\, Riga\, LV-1012\, Latvia
CATEGORIES:Safety and Security Courses
ATTACH;FMTTYPE=image/jpeg:https://lapa.lv/wp-content/uploads/2024/11/solas-3.jpg
END:VEVENT
END:VCALENDAR